BEGIN:VCALENDAR
VERSION:2.0
PRODID:spatie/icalendar-generator
DESCRIPTION:Events from Hot Wheels Monster Trucks Live
X-WR-CALDESC:Events from Hot Wheels Monster Trucks Live
REFRESH-INTERVAL;VALUE=DURATION:PT1440M
X-PUBLISHED-TTL:PT1440M
BEGIN:VTIMEZONE
TZID:Etc/GMT+4
BEGIN:STANDARD
DTSTART:20200601T170000Z
TZOFFSETFROM:-0400
TZOFFSETTO:-0400
END:STANDARD
END:VTIMEZONE
BEGIN:VTIMEZONE
TZID:UTC
BEGIN:STANDARD
DTSTART:20250724T205715Z
TZOFFSETFROM:+0000
TZOFFSETTO:+0000
END:STANDARD
END:VTIMEZONE
BEGIN:VEVENT
UID:1422-95
DTSTAMP:20260420T205715Z
SUMMARY:$49.99 Online / $59.99 Gate |  FREE Lap! We invite you to take two 
 laps for the price of one!
LOCATION:
ORGANIZER;CN=Chad Swofford:MAILTO:cswofford@raycomsports.com
DTSTART;TZID=Etc/GMT+4:20210226T170000
DTEND;TZID=Etc/GMT+4:20210226T210000
X-ALT-DESC;FMTTYPE=TEXT/HTML:
CATEGORIES:Ultimate Drive-Thru - MA
URL;VALUE=URI:http://hotwheelsmonstertruckslive.com/mc-events/49-99-online-
 59-99-gate-free-lap-we-invite-you-to-take-two-laps-for-the-price-of-one/
METHOD:PUBLISH
END:VEVENT
END:VCALENDAR