BEGIN:VCALENDAR
VERSION:2.0
PRODID:spatie/icalendar-generator
DESCRIPTION:Events from Hot Wheels Monster Trucks Live
X-WR-CALDESC:Events from Hot Wheels Monster Trucks Live
REFRESH-INTERVAL;VALUE=DURATION:PT1440M
X-PUBLISHED-TTL:PT1440M
BEGIN:VTIMEZONE
TZID:Etc/GMT+4
BEGIN:STANDARD
DTSTART:20200521T110000Z
TZOFFSETFROM:-0400
TZOFFSETTO:-0400
END:STANDARD
END:VTIMEZONE
BEGIN:VTIMEZONE
TZID:UTC
BEGIN:STANDARD
DTSTART:20250725T114657Z
TZOFFSETFROM:+0000
TZOFFSETTO:+0000
END:STANDARD
END:VTIMEZONE
BEGIN:VEVENT
UID:1411-84
DTSTAMP:20260421T114657Z
SUMMARY:THREE FOR ALL - Every kid in your vehicle will receive a FREE 3-Car
  Pack!
LOCATION:
ORGANIZER;CN=Chad Swofford:MAILTO:cswofford@raycomsports.com
DTSTART;TZID=Etc/GMT+4:20210215T110000
DTEND;TZID=Etc/GMT+4:20210215T210000
X-ALT-DESC;FMTTYPE=TEXT/HTML:
CATEGORIES:Ultimate Drive-Thru - MA
URL;VALUE=URI:http://hotwheelsmonstertruckslive.com/mc-events/three-for-all
 -every-kid-in-your-vehicle-will-receive-a-free-3-car-pack/
METHOD:PUBLISH
END:VEVENT
END:VCALENDAR