BEGIN:VCALENDAR
VERSION:2.0
PRODID:spatie/icalendar-generator
DESCRIPTION:Events from Hot Wheels Monster Trucks Live
X-WR-CALDESC:Events from Hot Wheels Monster Trucks Live
REFRESH-INTERVAL;VALUE=DURATION:PT1440M
X-PUBLISHED-TTL:PT1440M
BEGIN:VTIMEZONE
TZID:Etc/GMT+4
BEGIN:STANDARD
DTSTART:20200508T170000Z
TZOFFSETFROM:-0400
TZOFFSETTO:-0400
END:STANDARD
END:VTIMEZONE
BEGIN:VTIMEZONE
TZID:UTC
BEGIN:STANDARD
DTSTART:20250723T183726Z
TZOFFSETFROM:+0000
TZOFFSETTO:+0000
END:STANDARD
END:VTIMEZONE
BEGIN:VEVENT
UID:1398-71
DTSTAMP:20260419T183726Z
SUMMARY:TWO'FER TUESDAY - We invite you to take two laps on Tuesdays!
LOCATION:
ORGANIZER;CN=Chad Swofford:MAILTO:cswofford@raycomsports.com
DTSTART;TZID=Etc/GMT+4:20210202T170000
DTEND;TZID=Etc/GMT+4:20210202T210000
X-ALT-DESC;FMTTYPE=TEXT/HTML:
CATEGORIES:Ultimate Drive-Thru - MA
URL;VALUE=URI:http://hotwheelsmonstertruckslive.com/mc-events/twofer-tuesda
 y-we-invite-you-to-take-two-laps-on-tuesdays-2/
METHOD:PUBLISH
END:VEVENT
END:VCALENDAR